BEGIN:VCALENDAR
VERSION:2.0
PRODID:-//Hinderwell Parish Council//Meeting Calendar//EN
CALSCALE:GREGORIAN
METHOD:PUBLISH
BEGIN:VEVENT
UID:70681-20260204@hinderwellparishcouncil.gov.uk
DTSTAMP:20260419T123453Z
DTSTART;VALUE=DATE:20260204
DTEND;VALUE=DATE:20260205
SUMMARY:Council Meeting 4th February 2026
DESCRIPTION:Full Council Meeting\nView details: https://hinderwellparishcouncil.gov.uk/meetings/council-meeting-4th-february-2026/
URL:https://hinderwellparishcouncil.gov.uk/meetings/council-meeting-4th-february-2026/
END:VEVENT
END:VCALENDAR
