BEGIN:VCALENDAR
VERSION:2.0
PRODID:-//Hinderwell Parish Council//Meeting Calendar//EN
CALSCALE:GREGORIAN
METHOD:PUBLISH
BEGIN:VEVENT
UID:70638-20251203@hinderwellparishcouncil.gov.uk
DTSTAMP:20260423T083423Z
DTSTART;VALUE=DATE:20251203
DTEND;VALUE=DATE:20251204
SUMMARY:Council Meeting &#8211\\; 3rd December 2025
DESCRIPTION:Full Council Meeting\nView details: https://hinderwellparishcouncil.gov.uk/meetings/council-meeting-3rd-december-2025/
URL:https://hinderwellparishcouncil.gov.uk/meetings/council-meeting-3rd-december-2025/
END:VEVENT
END:VCALENDAR
