BEGIN:VCALENDAR
VERSION:2.0
PRODID:-//Hinderwell Parish Council//Meeting Calendar//EN
CALSCALE:GREGORIAN
METHOD:PUBLISH
BEGIN:VEVENT
UID:70636-20251001@hinderwellparishcouncil.gov.uk
DTSTAMP:20260420T124712Z
DTSTART;VALUE=DATE:20251001
DTEND;VALUE=DATE:20251002
SUMMARY:Council Meeting &#8211\\; 1st October 2025
DESCRIPTION:Full Council Meeting\nView details: https://hinderwellparishcouncil.gov.uk/meetings/council-meeting-1st-october-2025/
URL:https://hinderwellparishcouncil.gov.uk/meetings/council-meeting-1st-october-2025/
END:VEVENT
END:VCALENDAR
