BEGIN:VCALENDAR
VERSION:2.0
PRODID:-//Hinderwell Parish Council//Meeting Calendar//EN
CALSCALE:GREGORIAN
METHOD:PUBLISH
BEGIN:VEVENT
UID:70635-20250904@hinderwellparishcouncil.gov.uk
DTSTAMP:20260422T083613Z
DTSTART;VALUE=DATE:20250904
DTEND;VALUE=DATE:20250905
SUMMARY:Council Meeting &#8211\\; 4th September 2025
DESCRIPTION:Full Council Meeting\nView details: https://hinderwellparishcouncil.gov.uk/meetings/council-meeting-4th-september-2025/
URL:https://hinderwellparishcouncil.gov.uk/meetings/council-meeting-4th-september-2025/
END:VEVENT
END:VCALENDAR
