BEGIN:VCALENDAR
VERSION:2.0
PRODID:-//Hinderwell Parish Council//Meeting Calendar//EN
CALSCALE:GREGORIAN
METHOD:PUBLISH
BEGIN:VEVENT
UID:70632-20250612@hinderwellparishcouncil.gov.uk
DTSTAMP:20260423T083914Z
DTSTART;VALUE=DATE:20250612
DTEND;VALUE=DATE:20250613
SUMMARY:Council Meeting &#8211\\; 12th June 2025
DESCRIPTION:Full Council Meeting\nView details: https://hinderwellparishcouncil.gov.uk/meetings/council-meeting-12th-june-2025/
URL:https://hinderwellparishcouncil.gov.uk/meetings/council-meeting-12th-june-2025/
END:VEVENT
END:VCALENDAR
